BEGIN:VCALENDAR
VERSION:2.0
PRODID: -//CMS 5.0 //NONSGML //DE
BEGIN:VEVENT
SUMMARY:Jugendchor Probe in Süd
DESCRIPTION:\n\nhttps://bezirk-hannover-nordost.nak-nordost.de/db/551146
UID:551146@bezirk-hannover-nordost.nak-nordost.de
LOCATION:Matthias Killenberg
CATEGORIES:Kirchenbezirk Hannover-Nordost,Jugend,Gruppe NDS Jugendchor,Kirchenbezirk Hannover-Südwest (Alle Gemeinden),Junge Kirche,Kirchenbezirk Hannover-Südwest,Kirchenbezirk Hannover-Nordost (Alle Gemeinden)
X-ORGANIZER:
STATUS:CONFIRMED
CLASS:PUBLIC
DTSTART:20261205T100000Z
DTEND:20261205T150000Z
DTSTAMP:20260421T210356Z
CREATED:20251028T040620Z
LAST-MODIFIED:20251116T185238Z
BEGIN:VALARM
UID:9C8888DE-3DC5-11F1-AF43-21EB5D29324C
TRIGGER:-PT60M
ACTION:DISPLAY
DESCRIPTION:SUMMARY:Jugendchor Probe in Süd
END:VALARM
END:VEVENT
END:VCALENDAR
