BEGIN:VCALENDAR
VERSION:2.0
PRODID: -//CMS 5.0 //NONSGML //DE
BEGIN:VEVENT
SUMMARY:Jugendchor Probe in Süd
DESCRIPTION:\n\nhttps://bezirk-hannover-nordost.nak-nordost.de/db/551106
UID:551106@bezirk-hannover-nordost.nak-nordost.de
LOCATION:Matthias Killenberg
CATEGORIES:Kirchenbezirk Hannover-Nordost (Alle Gemeinden),Kirchenbezirk Hannover-Südwest,Junge Kirche,Kirchenbezirk Hannover-Südwest (Alle Gemeinden),Gruppe NDS Jugendchor,Jugend,Kirchenbezirk Hannover-Nordost
X-ORGANIZER:
STATUS:CONFIRMED
CLASS:PUBLIC
DTSTART:20261127T180000Z
DTEND:20261127T200000Z
DTSTAMP:20260421T210326Z
CREATED:20251028T040605Z
LAST-MODIFIED:20251116T185251Z
BEGIN:VALARM
UID:8A250A6E-3DC5-11F1-815F-63065E29324C
TRIGGER:-PT60M
ACTION:DISPLAY
DESCRIPTION:SUMMARY:Jugendchor Probe in Süd
END:VALARM
END:VEVENT
END:VCALENDAR
