BEGIN:VCALENDAR
VERSION:2.0
PRODID: -//CMS 5.0 //NONSGML //DE
BEGIN:VEVENT
SUMMARY:Jugendchor Probe in Süd
DESCRIPTION:\n\nhttps://bezirk-hannover-nordost.nak-nordost.de/db/551104
UID:551104@bezirk-hannover-nordost.nak-nordost.de
LOCATION:Matthias Killenberg
CATEGORIES:Kirchenbezirk Hannover-Nordost (Alle Gemeinden),Kirchenbezirk Hannover-Südwest,Junge Kirche,Kirchenbezirk Hannover-Südwest (Alle Gemeinden),Jugend,Kirchenbezirk Hannover-Nordost,Gruppe NDS Jugendchor
X-ORGANIZER:
STATUS:CONFIRMED
CLASS:PUBLIC
DTSTART:20261113T180000Z
DTEND:20261113T200000Z
DTSTAMP:20260421T210326Z
CREATED:20251028T040550Z
LAST-MODIFIED:20251116T185308Z
BEGIN:VALARM
UID:8A27C088-3DC5-11F1-B47A-A2045E29324C
TRIGGER:-PT60M
ACTION:DISPLAY
DESCRIPTION:SUMMARY:Jugendchor Probe in Süd
END:VALARM
END:VEVENT
END:VCALENDAR
