BEGIN:VCALENDAR
VERSION:2.0
PRODID: -//CMS 5.0 //NONSGML //DE
BEGIN:VEVENT
SUMMARY:Jugendchor Probe in Süd
DESCRIPTION:\n\nhttps://bezirk-hannover-nordost.nak-nordost.de/db/551041
UID:551041@bezirk-hannover-nordost.nak-nordost.de
LOCATION:Matthias Killenberg
CATEGORIES:Kirchenbezirk Hannover-Südwest (Alle Gemeinden),Kirchenbezirk Hannover-Nordost,Jugend,Gruppe NDS Jugendchor,Kirchenbezirk Hannover-Nordost (Alle Gemeinden),Kirchenbezirk Hannover-Südwest,Junge Kirche
X-ORGANIZER:
STATUS:CONFIRMED
CLASS:PUBLIC
DTSTART:20260918T170000Z
DTEND:20260918T190000Z
DTSTAMP:20260421T210356Z
CREATED:20251028T040447Z
LAST-MODIFIED:20251116T185525Z
BEGIN:VALARM
UID:9C79283A-3DC5-11F1-8A26-A3EA5D29324C
TRIGGER:-PT60M
ACTION:DISPLAY
DESCRIPTION:SUMMARY:Jugendchor Probe in Süd
END:VALARM
END:VEVENT
END:VCALENDAR
