BEGIN:VCALENDAR
VERSION:2.0
PRODID: -//CMS 5.0 //NONSGML //DE
BEGIN:VEVENT
SUMMARY:Jugendchor Probe in Süd
DESCRIPTION:\n\nhttps://bezirk-hannover-nordost.nak-nordost.de/db/551005
UID:551005@bezirk-hannover-nordost.nak-nordost.de
LOCATION:Matthias Killenberg
CATEGORIES:Kirchenbezirk Hannover-Südwest (Alle Gemeinden),Kirchenbezirk Hannover-Nordost,Jugend,Gruppe NDS Jugendchor,Kirchenbezirk Hannover-Südwest,Kirchenbezirk Hannover-Nordost (Alle Gemeinden),Junge Kirche
X-ORGANIZER:
STATUS:CONFIRMED
CLASS:PUBLIC
DTSTART:20260828T170000Z
DTEND:20260828T190000Z
DTSTAMP:20260421T210259Z
CREATED:20251028T040425Z
LAST-MODIFIED:20251116T185538Z
BEGIN:VALARM
UID:7A6FE3B4-3DC5-11F1-B3C9-0A1F5E29324C
TRIGGER:-PT60M
ACTION:DISPLAY
DESCRIPTION:SUMMARY:Jugendchor Probe in Süd
END:VALARM
END:VEVENT
END:VCALENDAR
