BEGIN:VCALENDAR
VERSION:2.0
PRODID: -//CMS 5.0 //NONSGML //DE
BEGIN:VEVENT
SUMMARY:Jugendchor Probe in Süd
DESCRIPTION:\n\nhttps://bezirk-hannover-nordost.nak-nordost.de/db/550999
UID:550999@bezirk-hannover-nordost.nak-nordost.de
LOCATION:Matthias Killenberg
CATEGORIES:Kirchenbezirk Hannover-Nordost (Alle Gemeinden),Kirchenbezirk Hannover-Südwest,Junge Kirche,Kirchenbezirk Hannover-Südwest (Alle Gemeinden),Jugend,Kirchenbezirk Hannover-Nordost,Gruppe NDS Jugendchor
X-ORGANIZER:
STATUS:CONFIRMED
CLASS:PUBLIC
DTSTART:20260814T170000Z
DTEND:20260814T190000Z
DTSTAMP:20260421T223838Z
CREATED:20251028T040354Z
LAST-MODIFIED:20251116T185551Z
BEGIN:VALARM
UID:D7191CD6-3DD2-11F1-A203-8D7B5E29324C
TRIGGER:-PT60M
ACTION:DISPLAY
DESCRIPTION:SUMMARY:Jugendchor Probe in Süd
END:VALARM
END:VEVENT
END:VCALENDAR
