BEGIN:VCALENDAR
VERSION:2.0
PRODID: -//CMS 5.0 //NONSGML //DE
BEGIN:VEVENT
SUMMARY:Jugendchor Ferienprobe in Süd
DESCRIPTION:\n\nhttps://bezirk-hannover-nordost.nak-nordost.de/db/550978
UID:550978@bezirk-hannover-nordost.nak-nordost.de
LOCATION:Matthias Killenberg
CATEGORIES:Junge Kirche,Kirchenbezirk Hannover-Nordost (Alle Gemeinden),Kirchenbezirk Hannover-Südwest,Jugend,Kirchenbezirk Hannover-Nordost,Gruppe NDS Jugendchor,Kirchenbezirk Hannover-Südwest (Alle Gemeinden)
X-ORGANIZER:
STATUS:CONFIRMED
CLASS:PUBLIC
DTSTART:20260703T170000Z
DTEND:20260703T190000Z
DTSTAMP:20260421T223811Z
CREATED:20251028T040311Z
LAST-MODIFIED:20251116T185606Z
BEGIN:VALARM
UID:C6FCD4D2-3DD2-11F1-B9A2-1C6B5E29324C
TRIGGER:-PT60M
ACTION:DISPLAY
DESCRIPTION:SUMMARY:Jugendchor Ferienprobe in Süd
END:VALARM
END:VEVENT
END:VCALENDAR
