BEGIN:VCALENDAR
VERSION:2.0
PRODID: -//CMS 5.0 //NONSGML //DE
BEGIN:VEVENT
SUMMARY:Jugendchor Probe in Süd
DESCRIPTION:\n\nhttps://bezirk-hannover-nordost.nak-nordost.de/db/550957
UID:550957@bezirk-hannover-nordost.nak-nordost.de
LOCATION:Matthias Killenberg
CATEGORIES:Junge Kirche,Kirchenbezirk Hannover-Südwest,Kirchenbezirk Hannover-Nordost (Alle Gemeinden),Gruppe NDS Jugendchor,Kirchenbezirk Hannover-Nordost,Jugend,Kirchenbezirk Hannover-Südwest (Alle Gemeinden)
X-ORGANIZER:
STATUS:CONFIRMED
CLASS:PUBLIC
DTSTART:20260619T170000Z
DTEND:20260619T190000Z
DTSTAMP:20260421T210416Z
CREATED:20251028T040235Z
LAST-MODIFIED:20251116T185739Z
BEGIN:VALARM
UID:A8203386-3DC5-11F1-A5F6-35F65D29324C
TRIGGER:-PT60M
ACTION:DISPLAY
DESCRIPTION:SUMMARY:Jugendchor Probe in Süd
END:VALARM
END:VEVENT
END:VCALENDAR
