BEGIN:VCALENDAR
VERSION:2.0
PRODID: -//CMS 5.0 //NONSGML //DE
BEGIN:VEVENT
SUMMARY:Jugendchor Probe in List
DESCRIPTION:\n\nhttps://bezirk-hannover-nordost.nak-nordost.de/db/550874
UID:550874@bezirk-hannover-nordost.nak-nordost.de
LOCATION:Matthias Killenberg
CATEGORIES:Junge Kirche,Kirchenbezirk Hannover-Südwest,Kirchenbezirk Hannover-Nordost (Alle Gemeinden),Jugend,Kirchenbezirk Hannover-Nordost,Gruppe NDS Jugendchor,Kirchenbezirk Hannover-Südwest (Alle Gemeinden)
X-ORGANIZER:
STATUS:CONFIRMED
CLASS:PUBLIC
DTSTART:20260529T170000Z
DTEND:20260529T190000Z
DTSTAMP:20260421T210417Z
CREATED:20251028T040013Z
LAST-MODIFIED:20251116T185854Z
BEGIN:VALARM
UID:A8B416D2-3DC5-11F1-A66B-B10A5E29324C
TRIGGER:-PT60M
ACTION:DISPLAY
DESCRIPTION:SUMMARY:Jugendchor Probe in List
END:VALARM
END:VEVENT
END:VCALENDAR
