BEGIN:VCALENDAR
VERSION:2.0
PRODID: -//CMS 5.0 //NONSGML //DE
BEGIN:VEVENT
SUMMARY:Jugendchor Probe in List
DESCRIPTION:\n\nhttps://bezirk-hannover-nordost.nak-nordost.de/db/550873
UID:550873@bezirk-hannover-nordost.nak-nordost.de
LOCATION:Matthias Killenberg
CATEGORIES:Junge Kirche,Kirchenbezirk Hannover-Nordost (Alle Gemeinden),Kirchenbezirk Hannover-Südwest,Jugend,Kirchenbezirk Hannover-Nordost,Gruppe NDS Jugendchor,Kirchenbezirk Hannover-Südwest (Alle Gemeinden)
X-ORGANIZER:
STATUS:CONFIRMED
CLASS:PUBLIC
DTSTART:20260508T170000Z
DTEND:20260508T190000Z
DTSTAMP:20260421T210417Z
CREATED:20251028T035931Z
LAST-MODIFIED:20251116T185840Z
BEGIN:VALARM
UID:A88C1BDC-3DC5-11F1-A202-11425E29324C
TRIGGER:-PT60M
ACTION:DISPLAY
DESCRIPTION:SUMMARY:Jugendchor Probe in List
END:VALARM
END:VEVENT
END:VCALENDAR
