BEGIN:VCALENDAR
VERSION:2.0
PRODID: -//CMS 5.0 //NONSGML //DE
BEGIN:VEVENT
SUMMARY:Jugendchor Stimmbildung
DESCRIPTION:\n\nhttps://bezirk-hannover-nordost.nak-nordost.de/db/550789
UID:550789@bezirk-hannover-nordost.nak-nordost.de
LOCATION:Matthias Killenberg
CATEGORIES:Jugend,Gruppe NDS Jugendchor,Kirchenbezirk Hannover-Nordost,Kirchenbezirk Hannover-Südwest (Alle Gemeinden),Junge Kirche,Kirchenbezirk Hannover-Nordost (Alle Gemeinden),Kirchenbezirk Hannover-Südwest
X-ORGANIZER:
STATUS:CONFIRMED
CLASS:PUBLIC
DTSTART:20260307T100000Z
DTEND:20260307T150000Z
DTSTAMP:20260421T223839Z
CREATED:20251028T035711Z
LAST-MODIFIED:20251116T185511Z
BEGIN:VALARM
UID:D7B7C214-3DD2-11F1-AFF8-339B5E29324C
TRIGGER:-PT60M
ACTION:DISPLAY
DESCRIPTION:SUMMARY:Jugendchor Stimmbildung
END:VALARM
END:VEVENT
END:VCALENDAR
