BEGIN:VCALENDAR
VERSION:2.0
PRODID: -//CMS 5.0 //NONSGML //DE
BEGIN:VEVENT
SUMMARY:Jugendchor Probe in Süd 
DESCRIPTION:\n\nhttps://bezirk-hannover-nordost.nak-nordost.de/db/550768
UID:550768@bezirk-hannover-nordost.nak-nordost.de
LOCATION:Matthias Killenberg
CATEGORIES:Kirchenbezirk Hannover-Südwest,Kirchenbezirk Hannover-Nordost (Alle Gemeinden),Junge Kirche,Kirchenbezirk Hannover-Südwest (Alle Gemeinden),Gruppe NDS Jugendchor,Jugend,Kirchenbezirk Hannover-Nordost
X-ORGANIZER:
STATUS:CONFIRMED
CLASS:PUBLIC
DTSTART:20260227T180000Z
DTEND:20260227T200000Z
DTSTAMP:20260421T235917Z
CREATED:20251028T035630Z
LAST-MODIFIED:20251116T185208Z
BEGIN:VALARM
UID:1B6FF71E-3DDE-11F1-BEE6-E9EE5E29324C
TRIGGER:-PT60M
ACTION:DISPLAY
DESCRIPTION:SUMMARY:Jugendchor Probe in Süd 
END:VALARM
END:VEVENT
END:VCALENDAR
