BEGIN:VCALENDAR
VERSION:2.0
PRODID: -//CMS 5.0 //NONSGML //DE
BEGIN:VEVENT
SUMMARY:Jugendchor Probe in List
DESCRIPTION:\n\nhttps://bezirk-hannover-nordost.nak-nordost.de/db/550747
UID:550747@bezirk-hannover-nordost.nak-nordost.de
LOCATION:Matthias Killenberg
CATEGORIES:Jugend,Gruppe NDS Jugendchor,Kirchenbezirk Hannover-Nordost,Kirchenbezirk Hannover-Südwest (Alle Gemeinden),Junge Kirche,Kirchenbezirk Hannover-Südwest,Kirchenbezirk Hannover-Nordost (Alle Gemeinden)
X-ORGANIZER:
STATUS:CONFIRMED
CLASS:PUBLIC
DTSTART:20260213T180000Z
DTEND:20260213T200000Z
DTSTAMP:20260421T224538Z
CREATED:20251028T035506Z
LAST-MODIFIED:20251116T185143Z
BEGIN:VALARM
UID:D19B0D7C-3DD3-11F1-9363-147F5E29324C
TRIGGER:-PT60M
ACTION:DISPLAY
DESCRIPTION:SUMMARY:Jugendchor Probe in List
END:VALARM
END:VEVENT
END:VCALENDAR
