BEGIN:VCALENDAR
VERSION:2.0
PRODID: -//CMS 5.0 //NONSGML //DE
BEGIN:VEVENT
SUMMARY:Jugendgottesdienst für die Bezirke Hannover-Nordost und Hannove
 r-Südwest
DESCRIPTION:\n\nhttps://bezirk-hannover-nordost.nak-nordost.de/db/448241
UID:448241@bezirk-hannover-nordost.nak-nordost.de
LOCATION:Christoph Lindwedel
CATEGORIES:Kirchenbezirk Hannover-Nordost (Alle Gemeinden),Kirchenbezirk Hannover-Südwest,Junge Kirche,Gemeinde Burgwedel,Burgwedel intern,Kirchenbezirk Hannover-Südwest (Alle Gemeinden),Kirchenbezirk Hannover-Nordost,Gruppe NDS Jugendchor,Jugend
X-ORGANIZER:
STATUS:CONFIRMED
CLASS:PUBLIC
DTSTART:20251109T100000Z
DTEND:20251109T110000Z
DTSTAMP:20260421T223706Z
CREATED:20241212T052640Z
LAST-MODIFIED:20250905T040357Z
BEGIN:VALARM
UID:A0716ECC-3DD2-11F1-A6D6-B8715E29324C
TRIGGER:-PT60M
ACTION:DISPLAY
DESCRIPTION:SUMMARY:Jugendgottesdienst für die Bezirke Hannover-Nordost und Hannove
 r-Südwest
END:VALARM
END:VEVENT
END:VCALENDAR
