BEGIN:VCALENDAR
VERSION:2.0
PRODID: -//CMS 5.0 //NONSGML //DE
BEGIN:VEVENT
SUMMARY:Jugendtag Apostelbereich Mitte-Nord
DESCRIPTION:\n\nhttps://bezirk-hannover-nordost.nak-nordost.de/db/448222
UID:448222@bezirk-hannover-nordost.nak-nordost.de
LOCATION:Christoph Lindwedel
CATEGORIES:Junge Kirche,Gemeinde Burgwedel,Kirchenbezirk Hannover-Nordost (Alle Gemeinden),Kirchenbezirk Hannover-Südwest,Gruppe NDS Jugendchor,Kirchenbezirk Hannover-Nordost,Jugend,Burgwedel intern,Kirchenbezirk Hannover-Südwest (Alle Gemeinden)
X-ORGANIZER:
STATUS:CONFIRMED
CLASS:PUBLIC
DTSTART;VALUE=DATE:20250921
DTEND;VALUE=DATE:20250922
DTSTAMP:20260421T223811Z
CREATED:20241212T051743Z
LAST-MODIFIED:20250308T173509Z
BEGIN:VALARM
UID:C7014242-3DD2-11F1-9E89-82625E29324C
TRIGGER:-PT60M
ACTION:DISPLAY
DESCRIPTION:SUMMARY:Jugendtag Apostelbereich Mitte-Nord
END:VALARM
END:VEVENT
END:VCALENDAR
