BEGIN:VCALENDAR
VERSION:2.0
PRODID: -//CMS 5.0 //NONSGML //DE
BEGIN:VEVENT
SUMMARY:Jugendgottesdienst für die Bezirke Hannover-Nordost und Hannove
 r-Südwest
DESCRIPTION:\n\nhttps://bezirk-hannover-nordost.nak-nordost.de/db/448184
UID:448184@bezirk-hannover-nordost.nak-nordost.de
LOCATION:Christoph Lindwedel
CATEGORIES:Gruppe NDS Jugendchor,Kirchenbezirk Hannover-Nordost,Jugend,Kirchenbezirk Hannover-Südwest (Alle Gemeinden),Burgwedel intern,Gemeinde Burgwedel,Junge Kirche,Kirchenbezirk Hannover-Nordost (Alle Gemeinden),Kirchenbezirk Hannover-Südwest
X-ORGANIZER:
STATUS:CONFIRMED
CLASS:PUBLIC
DTSTART:20250601T090000Z
DTEND:20250601T100000Z
DTSTAMP:20260421T223705Z
CREATED:20241212T051446Z
LAST-MODIFIED:20241212T051511Z
BEGIN:VALARM
UID:9F9B39B0-3DD2-11F1-A5CB-BDBC5E29324C
TRIGGER:-PT60M
ACTION:DISPLAY
DESCRIPTION:SUMMARY:Jugendgottesdienst für die Bezirke Hannover-Nordost und Hannove
 r-Südwest
END:VALARM
END:VEVENT
END:VCALENDAR
