BEGIN:VCALENDAR
VERSION:2.0
PRODID: -//CMS 5.0 //NONSGML //DE
BEGIN:VEVENT
SUMMARY:Jugendchor Weihnachtsfeier
DESCRIPTION:\n\nhttps://bezirk-hannover-nordost.nak-nordost.de/db/448050
UID:448050@bezirk-hannover-nordost.nak-nordost.de
LOCATION:Matthias Killenberg
CATEGORIES:Kirchenbezirk Hannover-Nordost,Gruppe NDS Jugendchor,Jugend,Kirchenbezirk Hannover-Südwest (Alle Gemeinden),Junge Kirche,Kirchenbezirk Hannover-Südwest,Kirchenbezirk Hannover-Nordost (Alle Gemeinden)
X-ORGANIZER:
STATUS:CONFIRMED
CLASS:PUBLIC
DTSTART:20251205T170000Z
DTEND:20251205T200000Z
DTSTAMP:20260421T235516Z
CREATED:20241212T050349Z
LAST-MODIFIED:20251116T185046Z
BEGIN:VALARM
UID:8BAC2274-3DDD-11F1-AC37-7F555E29324C
TRIGGER:-PT60M
ACTION:DISPLAY
DESCRIPTION:SUMMARY:Jugendchor Weihnachtsfeier
END:VALARM
END:VEVENT
END:VCALENDAR
