BEGIN:VCALENDAR
VERSION:2.0
PRODID: -//CMS 5.0 //NONSGML //DE
BEGIN:VEVENT
SUMMARY:Jugendchor Probe in Süd 
DESCRIPTION:\n\nhttps://bezirk-hannover-nordost.nak-nordost.de/db/448012
UID:448012@bezirk-hannover-nordost.nak-nordost.de
LOCATION:Matthias Killenberg
CATEGORIES:Kirchenbezirk Hannover-Südwest,Kirchenbezirk Hannover-Nordost (Alle Gemeinden),Junge Kirche,Kirchenbezirk Hannover-Südwest (Alle Gemeinden),Jugend,Kirchenbezirk Hannover-Nordost,Gruppe NDS Jugendchor
X-ORGANIZER:
STATUS:CONFIRMED
CLASS:PUBLIC
DTSTART:20251128T180000Z
DTEND:20251128T200000Z
DTSTAMP:20260421T223706Z
CREATED:20241212T050237Z
LAST-MODIFIED:20251116T185011Z
BEGIN:VALARM
UID:A02041D2-3DD2-11F1-A8D7-840F5E29324C
TRIGGER:-PT60M
ACTION:DISPLAY
DESCRIPTION:SUMMARY:Jugendchor Probe in Süd 
END:VALARM
END:VEVENT
END:VCALENDAR
