BEGIN:VCALENDAR
VERSION:2.0
PRODID: -//CMS 5.0 //NONSGML //DE
BEGIN:VEVENT
SUMMARY:Jugendchor Probe in List
DESCRIPTION:\n\nhttps://bezirk-hannover-nordost.nak-nordost.de/db/447993
UID:447993@bezirk-hannover-nordost.nak-nordost.de
LOCATION:Matthias Killenberg
CATEGORIES:Kirchenbezirk Hannover-Nordost,Jugend,Gruppe NDS Jugendchor,Kirchenbezirk Hannover-Südwest (Alle Gemeinden),Junge Kirche,Kirchenbezirk Hannover-Südwest,Kirchenbezirk Hannover-Nordost (Alle Gemeinden)
X-ORGANIZER:
STATUS:CONFIRMED
CLASS:PUBLIC
DTSTART:20251115T100000Z
DTEND:20251115T150000Z
DTSTAMP:20260421T224450Z
CREATED:20241212T050203Z
LAST-MODIFIED:20241212T050227Z
BEGIN:VALARM
UID:B4E0DF40-3DD3-11F1-B1F6-F1CD5E29324C
TRIGGER:-PT60M
ACTION:DISPLAY
DESCRIPTION:SUMMARY:Jugendchor Probe in List
END:VALARM
END:VEVENT
END:VCALENDAR
