BEGIN:VCALENDAR
VERSION:2.0
PRODID: -//CMS 5.0 //NONSGML //DE
BEGIN:VEVENT
SUMMARY:Jugendchorfreizeit
DESCRIPTION:\n\nhttps://bezirk-hannover-nordost.nak-nordost.de/db/447955
UID:447955@bezirk-hannover-nordost.nak-nordost.de
LOCATION:Matthias Killenberg
CATEGORIES:Kirchenbezirk Hannover-Nordost,Jugend,Gruppe NDS Jugendchor,Kirchenbezirk Hannover-Südwest (Alle Gemeinden),Junge Kirche,Kirchenbezirk Hannover-Nordost (Alle Gemeinden),Kirchenbezirk Hannover-Südwest
X-ORGANIZER:
STATUS:CONFIRMED
CLASS:PUBLIC
DTSTART;VALUE=DATE:20251030
DTEND;VALUE=DATE:20251031
DTSTAMP:20260421T222857Z
CREATED:20241212T045959Z
LAST-MODIFIED:20241212T050043Z
BEGIN:VALARM
UID:7C77FD3E-3DD1-11F1-9227-21DA5E29324C
TRIGGER:-PT60M
ACTION:DISPLAY
DESCRIPTION:SUMMARY:Jugendchorfreizeit
END:VALARM
END:VEVENT
END:VCALENDAR
