BEGIN:VCALENDAR
VERSION:2.0
PRODID: -//CMS 5.0 //NONSGML //DE
BEGIN:VEVENT
SUMMARY:Jugendchor Probe in Süd 
DESCRIPTION:\n\nhttps://bezirk-hannover-nordost.nak-nordost.de/db/447936
UID:447936@bezirk-hannover-nordost.nak-nordost.de
LOCATION:Matthias Killenberg
CATEGORIES:Kirchenbezirk Hannover-Nordost (Alle Gemeinden),Kirchenbezirk Hannover-Südwest,Junge Kirche,Kirchenbezirk Hannover-Südwest (Alle Gemeinden),Gruppe NDS Jugendchor,Jugend,Kirchenbezirk Hannover-Nordost
X-ORGANIZER:
STATUS:CONFIRMED
CLASS:PUBLIC
DTSTART:20251024T170000Z
DTEND:20251024T190000Z
DTSTAMP:20260421T223711Z
CREATED:20241212T045939Z
LAST-MODIFIED:20241212T045949Z
BEGIN:VALARM
UID:A3589336-3DD2-11F1-B0DF-56465E29324C
TRIGGER:-PT60M
ACTION:DISPLAY
DESCRIPTION:SUMMARY:Jugendchor Probe in Süd 
END:VALARM
END:VEVENT
END:VCALENDAR
