BEGIN:VCALENDAR
VERSION:2.0
PRODID: -//CMS 5.0 //NONSGML //DE
BEGIN:VEVENT
SUMMARY:Jugendchor Probe in Süd 
DESCRIPTION:\n\nhttps://bezirk-hannover-nordost.nak-nordost.de/db/447917
UID:447917@bezirk-hannover-nordost.nak-nordost.de
LOCATION:Matthias Killenberg
CATEGORIES:Kirchenbezirk Hannover-Südwest (Alle Gemeinden),Kirchenbezirk Hannover-Nordost,Gruppe NDS Jugendchor,Jugend,Kirchenbezirk Hannover-Nordost (Alle Gemeinden),Kirchenbezirk Hannover-Südwest,Junge Kirche
X-ORGANIZER:
STATUS:CONFIRMED
CLASS:PUBLIC
DTSTART:20251010T170000Z
DTEND:20251010T190000Z
DTSTAMP:20260421T224419Z
CREATED:20241212T045907Z
LAST-MODIFIED:20241212T045928Z
BEGIN:VALARM
UID:A239ED6E-3DD3-11F1-8924-57D85E29324C
TRIGGER:-PT60M
ACTION:DISPLAY
DESCRIPTION:SUMMARY:Jugendchor Probe in Süd 
END:VALARM
END:VEVENT
END:VCALENDAR
