BEGIN:VCALENDAR
VERSION:2.0
PRODID: -//CMS 5.0 //NONSGML //DE
BEGIN:VEVENT
SUMMARY:Jugendchor Probe in Süd 
DESCRIPTION:\n\nhttps://bezirk-hannover-nordost.nak-nordost.de/db/447898
UID:447898@bezirk-hannover-nordost.nak-nordost.de
LOCATION:Matthias Killenberg
CATEGORIES:Gruppe NDS Jugendchor,Jugend,Kirchenbezirk Hannover-Nordost,Kirchenbezirk Hannover-Südwest (Alle Gemeinden),Junge Kirche,Kirchenbezirk Hannover-Südwest,Kirchenbezirk Hannover-Nordost (Alle Gemeinden)
X-ORGANIZER:
STATUS:CONFIRMED
CLASS:PUBLIC
DTSTART:20250919T170000Z
DTEND:20250919T190000Z
DTSTAMP:20260421T224418Z
CREATED:20241212T045845Z
LAST-MODIFIED:20241212T045859Z
BEGIN:VALARM
UID:A1AE01D2-3DD3-11F1-AA37-7AAA5E29324C
TRIGGER:-PT60M
ACTION:DISPLAY
DESCRIPTION:SUMMARY:Jugendchor Probe in Süd 
END:VALARM
END:VEVENT
END:VCALENDAR
