BEGIN:VCALENDAR
VERSION:2.0
PRODID: -//CMS 5.0 //NONSGML //DE
BEGIN:VEVENT
SUMMARY:Jugendchor Probe in Süd 
DESCRIPTION:\n\nhttps://bezirk-hannover-nordost.nak-nordost.de/db/447879
UID:447879@bezirk-hannover-nordost.nak-nordost.de
LOCATION:Matthias Killenberg
CATEGORIES:Kirchenbezirk Hannover-Südwest,Kirchenbezirk Hannover-Nordost (Alle Gemeinden),Junge Kirche,Kirchenbezirk Hannover-Südwest (Alle Gemeinden),Jugend,Gruppe NDS Jugendchor,Kirchenbezirk Hannover-Nordost
X-ORGANIZER:
STATUS:CONFIRMED
CLASS:PUBLIC
DTSTART:20250905T170000Z
DTEND:20250905T190000Z
DTSTAMP:20260421T224401Z
CREATED:20241212T045820Z
LAST-MODIFIED:20241212T045836Z
BEGIN:VALARM
UID:97A2A210-3DD3-11F1-8970-9FCE5E29324C
TRIGGER:-PT60M
ACTION:DISPLAY
DESCRIPTION:SUMMARY:Jugendchor Probe in Süd 
END:VALARM
END:VEVENT
END:VCALENDAR
