BEGIN:VCALENDAR
VERSION:2.0
PRODID: -//CMS 5.0 //NONSGML //DE
BEGIN:VEVENT
SUMMARY:Jugendchor Probe in Süd 
DESCRIPTION:\n\nhttps://bezirk-hannover-nordost.nak-nordost.de/db/447860
UID:447860@bezirk-hannover-nordost.nak-nordost.de
LOCATION:Matthias Killenberg
CATEGORIES:Jugend,Gruppe NDS Jugendchor,Kirchenbezirk Hannover-Nordost,Kirchenbezirk Hannover-Südwest (Alle Gemeinden),Junge Kirche,Kirchenbezirk Hannover-Nordost (Alle Gemeinden),Kirchenbezirk Hannover-Südwest
X-ORGANIZER:
STATUS:CONFIRMED
CLASS:PUBLIC
DTSTART:20250822T170000Z
DTEND:20250822T190000Z
DTSTAMP:20260421T223840Z
CREATED:20241212T045758Z
LAST-MODIFIED:20241212T045809Z
BEGIN:VALARM
UID:D8051988-3DD2-11F1-9209-B74C5E29324C
TRIGGER:-PT60M
ACTION:DISPLAY
DESCRIPTION:SUMMARY:Jugendchor Probe in Süd 
END:VALARM
END:VEVENT
END:VCALENDAR
