BEGIN:VCALENDAR
VERSION:2.0
PRODID: -//CMS 5.0 //NONSGML //DE
BEGIN:VEVENT
SUMMARY:Jugendchor Probe in Süd 
DESCRIPTION:\n\nhttps://bezirk-hannover-nordost.nak-nordost.de/db/447841
UID:447841@bezirk-hannover-nordost.nak-nordost.de
LOCATION:Matthias Killenberg
CATEGORIES:Gruppe NDS Jugendchor,Jugend,Kirchenbezirk Hannover-Nordost,Kirchenbezirk Hannover-Südwest (Alle Gemeinden),Junge Kirche,Kirchenbezirk Hannover-Nordost (Alle Gemeinden),Kirchenbezirk Hannover-Südwest
X-ORGANIZER:
STATUS:CONFIRMED
CLASS:PUBLIC
DTSTART:20250808T170000Z
DTEND:20250808T190000Z
DTSTAMP:20260421T223812Z
CREATED:20241212T045726Z
LAST-MODIFIED:20241212T045748Z
BEGIN:VALARM
UID:C7673F84-3DD2-11F1-8EBB-A5F55E29324C
TRIGGER:-PT60M
ACTION:DISPLAY
DESCRIPTION:SUMMARY:Jugendchor Probe in Süd 
END:VALARM
END:VEVENT
END:VCALENDAR
