BEGIN:VCALENDAR
VERSION:2.0
PRODID: -//CMS 5.0 //NONSGML //DE
BEGIN:VEVENT
SUMMARY:Jugendchor Probe in Süd 
DESCRIPTION:\n\nhttps://bezirk-hannover-nordost.nak-nordost.de/db/447822
UID:447822@bezirk-hannover-nordost.nak-nordost.de
LOCATION:Matthias Killenberg
CATEGORIES:Kirchenbezirk Hannover-Südwest (Alle Gemeinden),Kirchenbezirk Hannover-Nordost,Gruppe NDS Jugendchor,Jugend,Kirchenbezirk Hannover-Nordost (Alle Gemeinden),Kirchenbezirk Hannover-Südwest,Junge Kirche
X-ORGANIZER:
STATUS:CONFIRMED
CLASS:PUBLIC
DTSTART:20250725T170000Z
DTEND:20250725T190000Z
DTSTAMP:20260421T224450Z
CREATED:20241212T045705Z
LAST-MODIFIED:20241212T045716Z
BEGIN:VALARM
UID:B4EB577C-3DD3-11F1-B1F5-1C6B5E29324C
TRIGGER:-PT60M
ACTION:DISPLAY
DESCRIPTION:SUMMARY:Jugendchor Probe in Süd 
END:VALARM
END:VEVENT
END:VCALENDAR
