BEGIN:VCALENDAR
VERSION:2.0
PRODID: -//CMS 5.0 //NONSGML //DE
BEGIN:VEVENT
SUMMARY:Jugendchor Probe in Süd 
DESCRIPTION:\n\nhttps://bezirk-hannover-nordost.nak-nordost.de/db/447708
UID:447708@bezirk-hannover-nordost.nak-nordost.de
LOCATION:Matthias Killenberg
CATEGORIES:Kirchenbezirk Hannover-Südwest (Alle Gemeinden),Jugend,Gruppe NDS Jugendchor,Kirchenbezirk Hannover-Nordost,Kirchenbezirk Hannover-Nordost (Alle Gemeinden),Kirchenbezirk Hannover-Südwest,Junge Kirche
X-ORGANIZER:
STATUS:CONFIRMED
CLASS:PUBLIC
DTSTART:20250523T170000Z
DTEND:20250523T190000Z
DTSTAMP:20260421T222844Z
CREATED:20241212T045358Z
LAST-MODIFIED:20241212T045426Z
BEGIN:VALARM
UID:752DA3E4-3DD1-11F1-AC95-50335E29324C
TRIGGER:-PT60M
ACTION:DISPLAY
DESCRIPTION:SUMMARY:Jugendchor Probe in Süd 
END:VALARM
END:VEVENT
END:VCALENDAR
