BEGIN:VCALENDAR
VERSION:2.0
PRODID: -//CMS 5.0 //NONSGML //DE
BEGIN:VEVENT
SUMMARY:Jugendchor Probe in Süd
DESCRIPTION:\n\nhttps://bezirk-hannover-nordost.nak-nordost.de/db/447670
UID:447670@bezirk-hannover-nordost.nak-nordost.de
LOCATION:Matthias Killenberg
CATEGORIES:Junge Kirche,Kirchenbezirk Hannover-Südwest,Kirchenbezirk Hannover-Nordost (Alle Gemeinden),Gruppe NDS Jugendchor,Jugend,Kirchenbezirk Hannover-Nordost,Kirchenbezirk Hannover-Südwest (Alle Gemeinden)
X-ORGANIZER:
STATUS:CONFIRMED
CLASS:PUBLIC
DTSTART:20250509T170000Z
DTEND:20250509T190000Z
DTSTAMP:20260421T223710Z
CREATED:20241212T045221Z
LAST-MODIFIED:20241212T045246Z
BEGIN:VALARM
UID:A2B2398C-3DD2-11F1-A4B8-408E5E29324C
TRIGGER:-PT60M
ACTION:DISPLAY
DESCRIPTION:SUMMARY:Jugendchor Probe in Süd
END:VALARM
END:VEVENT
END:VCALENDAR
